BEGIN:VCALENDAR
VERSION:2.0
CALSCALE:GREGORIAN
PRODID:-//Diputació de Barcelona//DibaCMS//EN
BEGIN:VEVENT
UID:2687
DTSTAMP:20260420T100156
DTSTART:20190209T120000
DTEND:20190209T140000
SUMMARY:ESPECTACLE INFANTIL LA PRINCESA AMB TEXANS
LOCATION:Travessia Sant Francesc d'Assís, 4 08251 Santpedor
METHOD:PUBLISH
X-WR-CALNAME:santpedor@santpedor.cat
X-WR-TIMEZONE:Europe/Madrid
DESCRIPTION:De la Companyia Sgratta. Lloc: La Nau

URI:https://www.santpedor.cat/actualitat/agenda/espectacle-infantil-la-princesa-amb-texans.html
CLASS:PUBLIC
END:VEVENT
END:VCALENDAR
