BEGIN:VCALENDAR
VERSION:2.0
CALSCALE:GREGORIAN
PRODID:-//Diputació de Barcelona//DibaCMS//EN
BEGIN:VEVENT
UID:2712
DTSTAMP:20260426T003201
DTSTART:20190224T180000
DTEND:20190224T200000
SUMMARY:BALL DE TARDA amb el Raül
LOCATION:C/ Roger de Flor 8251 Santpedor
METHOD:PUBLISH
X-WR-CALNAME:santpedor@santpedor.cat
X-WR-TIMEZONE:Europe/Madrid
DESCRIPTION:Lloc: Cal Llovet
Organitza: Club Recreatiu

URI:https://www.santpedor.cat/actualitat/agenda/ball-de-tarda-amb-el-raul.html
CLASS:PUBLIC
END:VEVENT
END:VCALENDAR
