BEGIN:VCALENDAR
VERSION:2.0
CALSCALE:GREGORIAN
PRODID:-//Diputació de Barcelona//DibaCMS//EN
BEGIN:VEVENT
UID:2888
DTSTAMP:20260420T045617
DTSTART:20190922T090000
DTEND:20190922T140000
SUMMARY:CONCURS DE PINTURA RÀPIDA
LOCATION:
METHOD:PUBLISH
X-WR-CALNAME:santpedor@santpedor.cat
X-WR-TIMEZONE:Europe/Madrid
DESCRIPTION:Duranht tot el matí, els artistes apuntats al Concurs pintaran racons, paisatges o edificis de Santpedor en el primer acte de la Fira de Sant Miquel. Organitza el Ressò Santpedor. Al final del matí, les obres es presentaran a la Capella on es decidiran els guanyadors i es mostraran els treballs en una exposició el diumenge de Fira.

URI:https://www.santpedor.cat/actualitat/agenda/concurs-de-pintura-rapida.html
CLASS:PUBLIC
END:VEVENT
END:VCALENDAR
