BEGIN:VCALENDAR
VERSION:2.0
CALSCALE:GREGORIAN
PRODID:-//Diputació de Barcelona//DibaCMS//EN
BEGIN:VEVENT
UID:4544
DTSTAMP:20260423T130135
DTSTART:20240106T000000
DTEND:20240107T000000
SUMMARY:Exposició diorames de Nadal 
LOCATION:Carrer Santa Anna, 2 
METHOD:PUBLISH
X-WR-CALNAME:santpedor@santpedor.cat
X-WR-TIMEZONE:Europe/Madrid
DESCRIPTION:
URI:https://www.santpedor.cat/actualitat/agenda/exposicio-diorames-de-nadal-.html
CLASS:PUBLIC
END:VEVENT
END:VCALENDAR
