BEGIN:VCALENDAR
VERSION:2.0
CALSCALE:GREGORIAN
PRODID:-//Diputació de Barcelona//DibaCMS//EN
BEGIN:VEVENT
UID:4697
DTSTAMP:20260423T125738
DTSTART:20240220T180000
DTEND:20240220T200000
SUMMARY:Pintem!  - Lokal de la Vila
LOCATION:C/ Sant Pere, 14 08251 Santpedor
METHOD:PUBLISH
X-WR-CALNAME:santpedor@santpedor.cat
X-WR-TIMEZONE:Europe/Madrid
DESCRIPTION:
URI:https://www.santpedor.cat/actualitat/agenda/pintem-lokal-de-la-vila.html
CLASS:PUBLIC
END:VEVENT
END:VCALENDAR
