BEGIN:VCALENDAR
VERSION:2.0
CALSCALE:GREGORIAN
PRODID:-//Diputació de Barcelona//DibaCMS//EN
BEGIN:VEVENT
UID:5316
DTSTAMP:20260420T134806
DTSTART:20241105T153000
DTEND:20241126T153000
SUMMARY:CLUB DE LECTURA FÀCIL (dimarts a les 15.30 h)
LOCATION:Plaça La Pau, 2 08251 Santpedor
METHOD:PUBLISH
X-WR-CALNAME:santpedor@santpedor.cat
X-WR-TIMEZONE:Europe/Madrid
DESCRIPTION:
URI:https://www.santpedor.cat/actualitat/agenda/5316-club-de-lectura-facil-dimarts-a-les-1530-h.html
CLASS:PUBLIC
END:VEVENT
END:VCALENDAR
