BEGIN:VCALENDAR
VERSION:2.0
CALSCALE:GREGORIAN
PRODID:-//Diputació de Barcelona//DibaCMS//EN
BEGIN:VEVENT
UID:5327
DTSTAMP:20260424T130319
DTSTART:20241121T173000
DTEND:20241121T190000
SUMMARY:TALLER DE RUMBA EN FAMÍLIA
LOCATION:Plaça La Pau, 2 08251 Santpedor
METHOD:PUBLISH
X-WR-CALNAME:santpedor@santpedor.cat
X-WR-TIMEZONE:Europe/Madrid
DESCRIPTION:
URI:https://www.santpedor.cat/actualitat/agenda/taller-de-rumba-en-familia.html
CLASS:PUBLIC
END:VEVENT
END:VCALENDAR
