BEGIN:VCALENDAR
VERSION:2.0
CALSCALE:GREGORIAN
PRODID:-//Diputació de Barcelona//DibaCMS//EN
BEGIN:VEVENT
UID:5339
DTSTAMP:20260424T130248
DTSTART:20241124T100000
DTEND:20241124T140000
SUMMARY:Festa dels Drets dels Infants
LOCATION:plaça Gran U d'Octubre (en cas de pluja es traslladarà al Born) 
METHOD:PUBLISH
X-WR-CALNAME:santpedor@santpedor.cat
X-WR-TIMEZONE:Europe/Madrid
DESCRIPTION:
URI:https://www.santpedor.cat/actualitat/agenda/5339-festa-dels-drets-dels-infants.html
CLASS:PUBLIC
END:VEVENT
END:VCALENDAR
