BEGIN:VCALENDAR
VERSION:2.0
CALSCALE:GREGORIAN
PRODID:-//Diputació de Barcelona//DibaCMS//EN
BEGIN:VEVENT
UID:5502
DTSTAMP:20260424T131203
DTSTART:20250115T000000
DTEND:20250115T000000
SUMMARY:BALL DE TARDA AMB LUCKY LUCK
LOCATION:
METHOD:PUBLISH
X-WR-CALNAME:santpedor@santpedor.cat
X-WR-TIMEZONE:Europe/Madrid
DESCRIPTION:
URI:https://www.santpedor.cat/actualitat/agenda/5502-ball-de-tarda-amb-lucky-luck.html
CLASS:PUBLIC
END:VEVENT
END:VCALENDAR
