BEGIN:VCALENDAR
VERSION:2.0
CALSCALE:GREGORIAN
PRODID:-//Diputació de Barcelona//DibaCMS//EN
BEGIN:VEVENT
UID:5514
DTSTAMP:20260420T102550
DTSTART:20250209T180000
DTEND:20250209T210000
SUMMARY:Ball de tarda amb Enric
LOCATION:C/ Roger de Flor 8251 Santpedor
METHOD:PUBLISH
X-WR-CALNAME:santpedor@santpedor.cat
X-WR-TIMEZONE:Europe/Madrid
DESCRIPTION:
URI:https://www.santpedor.cat/actualitat/agenda/ball-de-tarda-amb-enric.html
CLASS:PUBLIC
END:VEVENT
END:VCALENDAR
