BEGIN:VCALENDAR
VERSION:2.0
CALSCALE:GREGORIAN
PRODID:-//Diputació de Barcelona//DibaCMS//EN
BEGIN:VEVENT
UID:5699
DTSTAMP:20260420T101815
DTSTART:20250412T110000
DTEND:20250412T130000
SUMMARY:Hora del conte: Princeses blaves
LOCATION:Plaça La Pau, 2 08251 Santpedor
METHOD:PUBLISH
X-WR-CALNAME:santpedor@santpedor.cat
X-WR-TIMEZONE:Europe/Madrid
DESCRIPTION:
URI:https://www.santpedor.cat/actualitat/agenda/hora-del-conte-princeses-blaves.html
CLASS:PUBLIC
END:VEVENT
END:VCALENDAR
