BEGIN:VCALENDAR
VERSION:2.0
CALSCALE:GREGORIAN
PRODID:-//Diputació de Barcelona//DibaCMS//EN
BEGIN:VEVENT
UID:5712
DTSTAMP:20260420T102709
DTSTART:20250414T000000
DTEND:20250417T000000
SUMMARY:Casalet de primavera de l'escola Llissach
LOCATION:Escola Llissach 
METHOD:PUBLISH
X-WR-CALNAME:santpedor@santpedor.cat
X-WR-TIMEZONE:Europe/Madrid
DESCRIPTION:
URI:https://www.santpedor.cat/actualitat/agenda/casalet-de-primavera-de-lescola-llissach.html
CLASS:PUBLIC
END:VEVENT
END:VCALENDAR
