BEGIN:VCALENDAR
VERSION:2.0
CALSCALE:GREGORIAN
PRODID:-//Diputació de Barcelona//DibaCMS//EN
BEGIN:VEVENT
UID:8490
DTSTAMP:20260424T141108
DTSTART:20260501T220000
DTEND:20260502T010000
SUMMARY:CONCERT TRIBUT A DIRE STRAITS / SULTANS OF SWING
LOCATION:C/ Roger de Flor 8251 Santpedor
METHOD:PUBLISH
X-WR-CALNAME:santpedor@santpedor.cat
X-WR-TIMEZONE:Europe/Madrid
DESCRIPTION:
URI:https://www.santpedor.cat/actualitat/agenda/concert-tribut-a-dire-straits--sultans-of-swing.html
CLASS:PUBLIC
END:VEVENT
END:VCALENDAR
