BEGIN:VCALENDAR
VERSION:2.0
CALSCALE:GREGORIAN
PRODID:-//Diputació de Barcelona//DibaCMS//EN
BEGIN:VEVENT
UID:8491
DTSTAMP:20260424T140516
DTSTART:20260502T100000
DTEND:20260502T140000
SUMMARY:MERCAT DE PROXIMITAT i DE LA RAMPOINA - Santpedor en Flor
LOCATION:plaça Gran U d'Octubre 
METHOD:PUBLISH
X-WR-CALNAME:santpedor@santpedor.cat
X-WR-TIMEZONE:Europe/Madrid
DESCRIPTION:
URI:https://www.santpedor.cat/actualitat/agenda/8491-mercat-de-proximitat-i-de-la-rampoina-santpedor-en-flor.html
CLASS:PUBLIC
END:VEVENT
END:VCALENDAR
