BEGIN:VCALENDAR
VERSION:2.0
CALSCALE:GREGORIAN
PRODID:-//Diputació de Barcelona//DibaCMS//EN
BEGIN:VEVENT
UID:8492
DTSTAMP:20260424T153540
DTSTART:20260502T100000
DTEND:20260502T140000
SUMMARY:ESPECTACLE XISBLUFA (Cia Fadunito) - Santpedor en Flor
LOCATION:aparcament de Cal Llovet 
METHOD:PUBLISH
X-WR-CALNAME:santpedor@santpedor.cat
X-WR-TIMEZONE:Europe/Madrid
DESCRIPTION:
URI:https://www.santpedor.cat/actualitat/agenda/espectacle-xisblufa-cia-fadunito-santpedor-en-flor.html
CLASS:PUBLIC
END:VEVENT
END:VCALENDAR
