BEGIN:VCALENDAR
VERSION:2.0
CALSCALE:GREGORIAN
PRODID:-//Diputació de Barcelona//DibaCMS//EN
BEGIN:VEVENT
UID:8494
DTSTAMP:20260424T153207
DTSTART:20260503T100000
DTEND:20260503T120000
SUMMARY:VISITA TEATRALITZADA A LA VILA MEDIEVAL- Santpedor en Flor
LOCATION:plaça Gran U d'Octubre 
METHOD:PUBLISH
X-WR-CALNAME:santpedor@santpedor.cat
X-WR-TIMEZONE:Europe/Madrid
DESCRIPTION:
URI:https://www.santpedor.cat/actualitat/agenda/8494-visita-teatralitzada-a-la-vila-medieval-santpedor-en-flor.html
CLASS:PUBLIC
END:VEVENT
END:VCALENDAR
