BEGIN:VCALENDAR
VERSION:2.0
CALSCALE:GREGORIAN
PRODID:-//Diputació de Barcelona//DibaCMS//EN
BEGIN:VEVENT
UID:8495
DTSTAMP:20260424T153835
DTSTART:20260502T180000
DTEND:20260502T190000
SUMMARY:DANSAFLOR'26 - Santpedor en Flor 
LOCATION:aparcament de Cal Llovet 
METHOD:PUBLISH
X-WR-CALNAME:santpedor@santpedor.cat
X-WR-TIMEZONE:Europe/Madrid
DESCRIPTION:
URI:https://www.santpedor.cat/actualitat/agenda/dansaflor26-santpedor-en-flor-.html
CLASS:PUBLIC
END:VEVENT
END:VCALENDAR
