BEGIN:VCALENDAR
VERSION:2.0
CALSCALE:GREGORIAN
PRODID:-//Diputació de Barcelona//DibaCMS//EN
BEGIN:VEVENT
UID:8496
DTSTAMP:20260424T153508
DTSTART:20260502T190000
DTEND:20260502T203000
SUMMARY:TABALFEST SANTPEDOR - Santpedor en Flor 
LOCATION:plaça Gran U d'Octubre 
METHOD:PUBLISH
X-WR-CALNAME:santpedor@santpedor.cat
X-WR-TIMEZONE:Europe/Madrid
DESCRIPTION:
URI:https://www.santpedor.cat/actualitat/agenda/tabalfest-santpedor-santpedor-en-flor-.html
CLASS:PUBLIC
END:VEVENT
END:VCALENDAR
