BEGIN:VCALENDAR
VERSION:2.0
CALSCALE:GREGORIAN
PRODID:-//Diputació de Barcelona//DibaCMS//EN
BEGIN:VEVENT
UID:8498
DTSTAMP:20260424T153340
DTSTART:20260503T120000
DTEND:20260503T130000
SUMMARY:CERCAVILA D’ENTITATS DE CULTURA POPULAR - Santpedor en Flor
LOCATION:plaça Gran U d'Octubre 
METHOD:PUBLISH
X-WR-CALNAME:santpedor@santpedor.cat
X-WR-TIMEZONE:Europe/Madrid
DESCRIPTION:
URI:https://www.santpedor.cat/actualitat/agenda/cercavila-dentitats-de-cultura-popular-santpedor-en-flor.html
CLASS:PUBLIC
END:VEVENT
END:VCALENDAR
