BEGIN:VCALENDAR
VERSION:2.0
CALSCALE:GREGORIAN
PRODID:-//Diputació de Barcelona//DibaCMS//EN
BEGIN:VEVENT
UID:8499
DTSTAMP:20260424T141323
DTSTART:20260503T130000
DTEND:20260503T140000
SUMMARY:CANTADA DE LA CORAL DE LA LLAR D’AVIS - Santpedor en Flor
LOCATION:plaça Gran U d'Octubre 
METHOD:PUBLISH
X-WR-CALNAME:santpedor@santpedor.cat
X-WR-TIMEZONE:Europe/Madrid
DESCRIPTION:
URI:https://www.santpedor.cat/actualitat/agenda/cantada-de-la-coral-de-la-llar-davis-santpedor-en-flor.html
CLASS:PUBLIC
END:VEVENT
END:VCALENDAR
